Workbook

Sheet Survey
A1: Question ID | B1: Question Text | C1: Answer Options | D1: Required
A2: Q1 | B2: How satisfied are you with our service? | C2: Very Dissatisfied, Dissatisfied, Neutral, Satisfied, Very Satisfied | D2: Yes
A3: Q2 | B3: Would you recommend us to others? | C3: Yes, No | D3: Yes
A4: Q3 | B4: What did you like most? | C4: - | D4: No
A5: Q4 | B5: How can we improve? | C5: - | D5: No
A6: Q5 | B6: Which product did you use? | C6: Product A, Product B, Product C | D6: Yes

Sheet Responses
A1: Q1 Satisfaction | B1: Q2 Recommendation | C1: Q3 Liked Most | D1: Q4 Needs Improvement | E1: Q5 Product
A2: Very Satisfied | B2: Yes | C2: Fast service | D2: - | E2: Product A
A3: Satisfied | B3: Yes | C3: Quality | D3: Improve reponse time | E3: Product A
A4: Satisfied | B4: Yes | C4: Friendly | D4: Faster | E4: Product B
A5: Neutral | B5: No | C5: Price | D5: More staff | E5: Product C
A6: Very Satisfied | B6: Yes | C6: Quality | D6: - | E6: Product B
A7: Dissatisfied | B7: No | C7: - | D7: Refunds | E7: Product C
A8: Satisfied | B8: Yes | C8: Support | D8: - | E8: Product A
A9: Very Satisfied | B9: Yes | C9: Quality | D9: Refunds | E9: Product C
A10: Very Dissatisfied | B10: No | C10: - | D10: Quality | E10: Product B
A11: Neutral | B11: Yes | C11: Price | D11: More staff and payment options | E11: Product A
A12: Satisfied | B12: Yes | C12: Speed | D12: - | E12: Product B
... A16: Very Satisfied | B16: Yes | C16: Quality | D16: - | E16: Product B

Sheet Functions
A1: Satisfaction Level | B1: Count | C1: Percent
A2: Very Satisfied | B2: =COUNTIF(Responses!A2:A16,Functions!A2) -> 5 | C2: =B2/SUM($B$2:$B$6) -> 0.33333333
A3: Satisfied | B3: =COUNTIF(Responses!A3:A17,Functions!A3) -> 5 | C3: =B3/SUM($B$2:$B$6) -> 0.33333333
A4: Neutral | B4: =COUNTIF(Responses!A4:A18,Functions!A4) -> 2 | C4: =B4/SUM($B$2:$B$6) -> 0.13333333
A5: Dissatisfied | B5: =COUNTIF(Responses!A5:A19,Functions!A5) -> 2 | C5: =B5/SUM($B$2:$B$6) -> 0.13333333
A6: Very Dissatisfied | B6: =COUNTIF(Responses!A6:A20,Functions!A6) -> 1 | C6: =B6/SUM($B$2:$B$6) -> 0.066666667
A8: Product | B8: Very Satisfied | C8: Satisfied | D8: Neutral | E8: Dissatisfied | F8: Very Dissatisfied
A9: Product A | B9: =COUNTIFS(Responses!$E$2:$E$16,Functions!$A9,Responses!$A$2:$A$16,Functions!B$8) -> 2 | C9: =COUNTIFS(Responses!$E$2:$E$16,Functions!$A9,Responses!$A$2:$A$16,Functions!C$8) -> 2 | D9: =COUNTIFS(Responses!$E$2:$E$16,Functions!$A9,Responses!$A$2:$A$16,Functions!D$8) -> 1 | E9: =COUNTIFS(Responses!$E$2:$E$16,Functions!$A9,Responses!$A$2:$A$16,Functions!E$8) -> 1 | F9: =COUNTIFS(Responses!$E$2:$E$16,Functions!$A9,Responses!$A$2:$A$16,Functions!F$8) -> 0
A10: Product B | B10: =COUNTIFS(Responses!$E$2:$E$16,Functions!$A10,Responses!$A$2:$A$16,Functions!B$8) -> 2 | C10: =COUNTIFS(Responses!$E$2:$E$16,Functions!$A10,Responses!$A$2:$A$16,Functions!C$8) -> 2 | D10: =COUNTIFS(Responses!$E$2:$E$16,Functions!$A10,Responses!$A$2:$A$16,Functions!D$8) -> 0 | E10: =COUNTIFS(Responses!$E$2:$E$16,Functions!$A10,Responses!$A$2:$A$16,Functions!E$8) -> 0 | F10: =COUNTIFS(Responses!$E$2:$E$16,Functions!$A10,Responses!$A$2:$A$16,Functions!F$8) -> 1
A11: Product C | B11: =COUNTIFS(Responses!$E$2:$E$16,Functions!$A11,Responses!$A$2:$A$16,Functions!B$8) -> 1 | C11: =COUNTIFS(Responses!$E$2:$E$16,Functions!$A11,Responses!$A$2:$A$16,Functions!C$8) -> 1 | D11: =COUNTIFS(Responses!$E$2:$E$16,Functions!$A11,Responses!$A$2:$A$16,Functions!D$8) -> 1 | E11: =COUNTIFS(Responses!$E$2:$E$16,Functions!$A11,Responses!$A$2:$A$16,Functions!E$8) -> 1 | F11: =COUNTIFS(Responses!$E$2:$E$16,Functions!$A11,Responses!$A$2:$A$16,Functions!F$8) -> 0

Sheet Pivot Table 1
A3: Count of Q1 Satisfaction | B3: Column Labels
A4: Row Labels | B4: Yes | C4: No | D4: Grand Total
A5: Very Satisfied | B5: 1 | C5: 0 | D5: 1
A6: Satisfied | B6: 0.8 | C6: 0.2 | D6: 1
A7: Neutral | B7: 0.5 | C7: 0.5 | D7: 1
A8: Dissatisfied | B8: 0 | C8: 1 | D8: 1
A9: Very Dissatisfied | B9: 0 | C9: 1 | D9: 1
A10: Grand Total | B10: 0.66666667 | C10: 0.33333333 | D10: 1

Sheet Pivot Table 2
A1: Product | B1: Satisfaction | C1: Score | E1: Row Labels | F1: Average of Score
A2: Product A | B2: Very Satisfied | C2: 5 | E2: Product A | F2: 3.8333333
A3: Product A | B3: Satisfied | C3: 4 | E3: Product B | F3: 3.8
A4: Product B | B4: Satisfied | C4: 4 | E4: Product C | F4: 3.5
A5: Product C | B5: Neutral | C5: 3 | E5: Grand Total | F5: 3.7333333
A6: Product B | B6: Very Satisfied | C6: 5
A7: Product C | B7: Dissatisfied | C7: 2
A8: Product A | B8: Satisfied | C8: 4
A9: Product C | B9: Very Satisfied | C9: 5
A10: Product B | B10: Very Dissatisfied | C10: 1
A11: Product A | B11: Neutral | C11: 3
A12: Product B | B12: Satisfied | C12: 4
A13: Product A | B13: Very Satisfied | C13: 5
A14: Product C | B14: Satisfied | C14: 4
A15: Product A | B15: Dissatisfied | C15: 2
A16: Product B | B16: Very Satisfied | C16: 5
