Workbook
Name PropertyData: 'Property Prices Named Range'!$A$1:$C$13

Sheet Property Prices
A1: Empployee ID | B1: Type | C1: Price ($)
A2: 1000 | B2: House | C2: 457060
A3: 1001 | B3: House | C3: 345579
A4: 1002 | B4: Apartment | C4: 251213
A5: 1003 | B5: Condo | C5: 451642
A6: 1004 | B6: Apartment | C6: 290378
A7: 1005 | B7: Apartment | C7: 157180
A8: 1006 | B8: Condo | C8: 482299
A9: 1007 | B9: Apartment | C9: 334197
A10: 1008 | B10: Condo | C10: 258915
A11: 1009 | B11: Condo | C11: 370567
A12: 1010 | B12: Condo | C12: 452803
A13: 1011 | B13: Apartment | C13: 476642

Sheet Property Prices Named Range
A1: Empployee ID | B1: Type | C1: Price ($)
A2: 1000 | B2: House | C2: 457060
A3: 1001 | B3: House | C3: 345579
A4: 1002 | B4: Apartment | C4: 251213
A5: 1003 | B5: Condo | C5: 451642
A6: 1004 | B6: Apartment | C6: 290378
A7: 1005 | B7: Apartment | C7: 157180
A8: 1006 | B8: Condo | C8: 482299
A9: 1007 | B9: Apartment | C9: 334197
A10: 1008 | B10: Condo | C10: 258915
A11: 1009 | B11: Condo | C11: 370567
A12: 1010 | B12: Condo | C12: 452803
A13: 1011 | B13: Apartment | C13: 476642

Sheet Real Estate Details
A1: Empployee ID | B1: Listed By | C1: City | D1: Price ($)
A2: 1000 | B2: Charlotte White | C2: Glasgow
A3: 1001 | B3: Sophie Walker | C3: Sydney
A4: 1002 | B4: Jack Anderson | C4: Hamilton
A5: 1003 | B5: Charlotte White | C5: Vancouver
A6: 1004 | B6: Ruby Scott | C6: New York
A7: 1005 | B7: Lucas King | C7: Perth
A8: 1006 | B8: Jack Anderson | C8: New York
A9: 1007 | B9: Chloe Allen | C9: Birmingham
A10: 1008 | B10: Ruby Scott | C10: Glasgow
A11: 1009 | B11: Ruby Scott | C11: Perth
A12: 1010 | B12: Ava Martin | C12: Birmingham
A13: 1011 | B13: Sophie Walker | C13: Los Angeles

Sheet VLOOKUP Function
A1: Empployee ID | B1: Listed By | C1: City | D1: Price ($)
A2: 1000 | B2: Charlotte White | C2: Glasgow | D2: =VLOOKUP(A2, 'Property Prices'!A2:C13, 3, FALSE) -> 457060
A3: 1001 | B3: Sophie Walker | C3: Sydney | D3: =VLOOKUP(A3, 'Property Prices'!A3:C14, 3, FALSE) -> 345579
A4: 1002 | B4: Jack Anderson | C4: Hamilton | D4: =VLOOKUP(A4, 'Property Prices'!A4:C15, 3, FALSE) -> 251213
A5: 1003 | B5: Charlotte White | C5: Vancouver | D5: =VLOOKUP(A5, 'Property Prices'!A5:C16, 3, FALSE) -> 451642
A6: 1004 | B6: Ruby Scott | C6: New York | D6: =VLOOKUP(A6, 'Property Prices'!A6:C17, 3, FALSE) -> 290378
A7: 1005 | B7: Lucas King | C7: Perth | D7: =VLOOKUP(A7, 'Property Prices'!A7:C18, 3, FALSE) -> 157180
A8: 1006 | B8: Jack Anderson | C8: New York | D8: =VLOOKUP(A8, 'Property Prices'!A8:C19, 3, FALSE) -> 482299
A9: 1007 | B9: Chloe Allen | C9: Birmingham | D9: =VLOOKUP(A9, 'Property Prices'!A9:C20, 3, FALSE) -> 334197
A10: 1008 | B10: Ruby Scott | C10: Glasgow | D10: =VLOOKUP(A10, 'Property Prices'!A10:C21, 3, FALSE) -> 258915
A11: 1009 | B11: Ruby Scott | C11: Perth | D11: =VLOOKUP(A11, 'Property Prices'!A11:C22, 3, FALSE) -> 370567
A12: 1010 | B12: Ava Martin | C12: Birmingham | D12: =VLOOKUP(A12, 'Property Prices'!A12:C23, 3, FALSE) -> 452803
A13: 1011 | B13: Sophie Walker | C13: Los Angeles | D13: =VLOOKUP(A13, 'Property Prices'!A13:C24, 3, FALSE) -> 476642

Sheet VLOOKUP with Named Range
A1: Empployee ID | B1: Listed By | C1: City | D1: Price ($)
A2: 1000 | B2: Charlotte White | C2: Glasgow | D2: =VLOOKUP(A2, PropertyData, 3, FALSE) -> 457060
A3: 1001 | B3: Sophie Walker | C3: Sydney | D3: =VLOOKUP(A3, PropertyData, 3, FALSE) -> 345579
A4: 1002 | B4: Jack Anderson | C4: Hamilton | D4: =VLOOKUP(A4, PropertyData, 3, FALSE) -> 251213
A5: 1003 | B5: Charlotte White | C5: Vancouver | D5: =VLOOKUP(A5, PropertyData, 3, FALSE) -> 451642
A6: 1004 | B6: Ruby Scott | C6: New York | D6: =VLOOKUP(A6, PropertyData, 3, FALSE) -> 290378
A7: 1005 | B7: Lucas King | C7: Perth | D7: =VLOOKUP(A7, PropertyData, 3, FALSE) -> 157180
A8: 1006 | B8: Jack Anderson | C8: New York | D8: =VLOOKUP(A8, PropertyData, 3, FALSE) -> 482299
A9: 1007 | B9: Chloe Allen | C9: Birmingham | D9: =VLOOKUP(A9, PropertyData, 3, FALSE) -> 334197
A10: 1008 | B10: Ruby Scott | C10: Glasgow | D10: =VLOOKUP(A10, PropertyData, 3, FALSE) -> 258915
A11: 1009 | B11: Ruby Scott | C11: Perth | D11: =VLOOKUP(A11, PropertyData, 3, FALSE) -> 370567
A12: 1010 | B12: Ava Martin | C12: Birmingham | D12: =VLOOKUP(A12, PropertyData, 3, FALSE) -> 452803
A13: 1011 | B13: Sophie Walker | C13: Los Angeles | D13: =VLOOKUP(A13, PropertyData, 3, FALSE) -> 476642

Sheet XLOOKUP  Function
A1: Empployee ID | B1: Listed By | C1: City | D1: Price ($)
A2: 1000 | B2: Charlotte White | C2: Glasgow | D2: =_xlfn.XLOOKUP(A2, 'Property Prices'!A2:A13, 'Property Prices'!C2:C13) -> 457060
A3: 1001 | B3: Sophie Walker | C3: Sydney | D3: =_xlfn.XLOOKUP(A3, 'Property Prices'!A3:A14, 'Property Prices'!C3:C14) -> 345579
A4: 1002 | B4: Jack Anderson | C4: Hamilton | D4: =_xlfn.XLOOKUP(A4, 'Property Prices'!A4:A15, 'Property Prices'!C4:C15) -> 251213
A5: 1003 | B5: Charlotte White | C5: Vancouver | D5: =_xlfn.XLOOKUP(A5, 'Property Prices'!A5:A16, 'Property Prices'!C5:C16) -> 451642
A6: 1004 | B6: Ruby Scott | C6: New York | D6: =_xlfn.XLOOKUP(A6, 'Property Prices'!A6:A17, 'Property Prices'!C6:C17) -> 290378
A7: 1005 | B7: Lucas King | C7: Perth | D7: =_xlfn.XLOOKUP(A7, 'Property Prices'!A7:A18, 'Property Prices'!C7:C18) -> 157180
A8: 1006 | B8: Jack Anderson | C8: New York | D8: =_xlfn.XLOOKUP(A8, 'Property Prices'!A8:A19, 'Property Prices'!C8:C19) -> 482299
A9: 1007 | B9: Chloe Allen | C9: Birmingham | D9: =_xlfn.XLOOKUP(A9, 'Property Prices'!A9:A20, 'Property Prices'!C9:C20) -> 334197
A10: 1008 | B10: Ruby Scott | C10: Glasgow | D10: =_xlfn.XLOOKUP(A10, 'Property Prices'!A10:A21, 'Property Prices'!C10:C21) -> 258915
A11: 1009 | B11: Ruby Scott | C11: Perth | D11: =_xlfn.XLOOKUP(A11, 'Property Prices'!A11:A22, 'Property Prices'!C11:C22) -> 370567
A12: 1010 | B12: Ava Martin | C12: Birmingham | D12: =_xlfn.XLOOKUP(A12, 'Property Prices'!A12:A23, 'Property Prices'!C12:C23) -> 452803
A13: 1011 | B13: Sophie Walker | C13: Los Angeles | D13: =_xlfn.XLOOKUP(A13, 'Property Prices'!A13:A24, 'Property Prices'!C13:C24) -> 476642

Sheet INDEX and MATCH Function
A1: Empployee ID | B1: Listed By | C1: City | D1: Price ($)
A2: 1000 | B2: Charlotte White | C2: Glasgow | D2: =INDEX('Property Prices'!C2:C13, MATCH(A2, 'Property Prices'!A2:A13, 0)) -> 457060
A3: 1001 | B3: Sophie Walker | C3: Sydney | D3: =INDEX('Property Prices'!C3:C14, MATCH(A3, 'Property Prices'!A3:A14, 0)) -> 345579
A4: 1002 | B4: Jack Anderson | C4: Hamilton | D4: =INDEX('Property Prices'!C4:C15, MATCH(A4, 'Property Prices'!A4:A15, 0)) -> 251213
A5: 1003 | B5: Charlotte White | C5: Vancouver | D5: =INDEX('Property Prices'!C5:C16, MATCH(A5, 'Property Prices'!A5:A16, 0)) -> 451642
A6: 1004 | B6: Ruby Scott | C6: New York | D6: =INDEX('Property Prices'!C6:C17, MATCH(A6, 'Property Prices'!A6:A17, 0)) -> 290378
A7: 1005 | B7: Lucas King | C7: Perth | D7: =INDEX('Property Prices'!C7:C18, MATCH(A7, 'Property Prices'!A7:A18, 0)) -> 157180
A8: 1006 | B8: Jack Anderson | C8: New York | D8: =INDEX('Property Prices'!C8:C19, MATCH(A8, 'Property Prices'!A8:A19, 0)) -> 482299
A9: 1007 | B9: Chloe Allen | C9: Birmingham | D9: =INDEX('Property Prices'!C9:C20, MATCH(A9, 'Property Prices'!A9:A20, 0)) -> 334197
A10: 1008 | B10: Ruby Scott | C10: Glasgow | D10: =INDEX('Property Prices'!C10:C21, MATCH(A10, 'Property Prices'!A10:A21, 0)) -> 258915
A11: 1009 | B11: Ruby Scott | C11: Perth | D11: =INDEX('Property Prices'!C11:C22, MATCH(A11, 'Property Prices'!A11:A22, 0)) -> 370567
A12: 1010 | B12: Ava Martin | C12: Birmingham | D12: =INDEX('Property Prices'!C12:C23, MATCH(A12, 'Property Prices'!A12:A23, 0)) -> 452803
A13: 1011 | B13: Sophie Walker | C13: Los Angeles | D13: =INDEX('Property Prices'!C13:C24, MATCH(A13, 'Property Prices'!A13:A24, 0)) -> 476642
