Workbook

Sheet Grade Table
A1: Marks | B1: Grade
A2: 0 | B2: F
A3: 50 | B3: D
A4: 60 | B4: C
A5: 70 | B5: B
A6: 80 | B6: A
A7: 90 | B7: A+

Sheet Student Scores
A1: Student | B1: Marks | C1: Grade
A2: Alex | B2: 77
A3: Sarah | B3: 85
A4: John | B4: 62
A5: Mia | B5: 45
A6: Liam | B6: 91
A7: Emma | B7: 68
A8: Sam | B8: 95
A9: Eva | B9: 54
A10: Tony | B10: 45

Sheet VLOOKUP Function
A1: Student | B1: Marks | C1: Grade
A2: Alex | B2: 77 | C2: =VLOOKUP(B2, 'Grade Table'!$A$2:$B$7, 2, TRUE) -> B
A3: Sarah | B3: 85 | C3: =VLOOKUP(B3, 'Grade Table'!$A$2:$B$7, 2, TRUE) -> A
A4: John | B4: 62 | C4: =VLOOKUP(B4, 'Grade Table'!$A$2:$B$7, 2, TRUE) -> C
A5: Mia | B5: 45 | C5: =VLOOKUP(B5, 'Grade Table'!$A$2:$B$7, 2, TRUE) -> F
A6: Liam | B6: 91 | C6: =VLOOKUP(B6, 'Grade Table'!$A$2:$B$7, 2, TRUE) -> A+
A7: Emma | B7: 68 | C7: =VLOOKUP(B7, 'Grade Table'!$A$2:$B$7, 2, TRUE) -> C
A8: Sam | B8: 95 | C8: =VLOOKUP(B8, 'Grade Table'!$A$2:$B$7, 2, TRUE) -> A+
A9: Eva | B9: 54 | C9: =VLOOKUP(B9, 'Grade Table'!$A$2:$B$7, 2, TRUE) -> D
A10: Tony | B10: 45 | C10: =VLOOKUP(B10, 'Grade Table'!$A$2:$B$7, 2, TRUE) -> F

Sheet LOOKUP Function
A1: Student | B1: Marks | C1: Grade
A2: Alex | B2: 77 | C2: =LOOKUP(B2, 'Grade Table'!$A$2:$A$7, 'Grade Table'!$B$2:$B$7) -> B
A3: Sarah | B3: 85 | C3: =LOOKUP(B3, 'Grade Table'!$A$2:$A$7, 'Grade Table'!$B$2:$B$7) -> A
A4: John | B4: 62 | C4: =LOOKUP(B4, 'Grade Table'!$A$2:$A$7, 'Grade Table'!$B$2:$B$7) -> C
A5: Mia | B5: 45 | C5: =LOOKUP(B5, 'Grade Table'!$A$2:$A$7, 'Grade Table'!$B$2:$B$7) -> F
A6: Liam | B6: 91 | C6: =LOOKUP(B6, 'Grade Table'!$A$2:$A$7, 'Grade Table'!$B$2:$B$7) -> A+
A7: Emma | B7: 68 | C7: =LOOKUP(B7, 'Grade Table'!$A$2:$A$7, 'Grade Table'!$B$2:$B$7) -> C
A8: Sam | B8: 95 | C8: =LOOKUP(B8, 'Grade Table'!$A$2:$A$7, 'Grade Table'!$B$2:$B$7) -> A+
A9: Eva | B9: 54 | C9: =LOOKUP(B9, 'Grade Table'!$A$2:$A$7, 'Grade Table'!$B$2:$B$7) -> D
A10: Tony | B10: 45 | C10: =LOOKUP(B10, 'Grade Table'!$A$2:$A$7, 'Grade Table'!$B$2:$B$7) -> F

Sheet INDEX with MATCH Function
A1: Student | B1: Marks | C1: Grade
A2: Alex | B2: 77 | C2: =IFERROR(INDEX('Grade Table'!B$2:B$7, MATCH(B2, 'Grade Table'!A$2:A$7, 1)), "F") -> B
A3: Sarah | B3: 85 | C3: =IFERROR(INDEX('Grade Table'!B$2:B$7, MATCH(B3, 'Grade Table'!A$2:A$7, 1)), "F") -> A
A4: John | B4: 62 | C4: =IFERROR(INDEX('Grade Table'!B$2:B$7, MATCH(B4, 'Grade Table'!A$2:A$7, 1)), "F") -> C
A5: Mia | B5: 45 | C5: =IFERROR(INDEX('Grade Table'!B$2:B$7, MATCH(B5, 'Grade Table'!A$2:A$7, 1)), "F") -> F
A6: Liam | B6: 91 | C6: =IFERROR(INDEX('Grade Table'!B$2:B$7, MATCH(B6, 'Grade Table'!A$2:A$7, 1)), "F") -> A+
A7: Emma | B7: 68 | C7: =IFERROR(INDEX('Grade Table'!B$2:B$7, MATCH(B7, 'Grade Table'!A$2:A$7, 1)), "F") -> C
A8: Sam | B8: 95 | C8: =IFERROR(INDEX('Grade Table'!B$2:B$7, MATCH(B8, 'Grade Table'!A$2:A$7, 1)), "F") -> A+
A9: Eva | B9: 54 | C9: =IFERROR(INDEX('Grade Table'!B$2:B$7, MATCH(B9, 'Grade Table'!A$2:A$7, 1)), "F") -> D
A10: Tony | B10: 45 | C10: =IFERROR(INDEX('Grade Table'!B$2:B$7, MATCH(B10, 'Grade Table'!A$2:A$7, 1)), "F") -> F

Sheet CHOOSE with MATCH Function
A1: Student | B1: Marks | C1: Grade
A2: Alex | B2: 77 | C2: =CHOOSE(MATCH(B2, {0,50,60,70,80,90}, 1), "F", "D", "C", "B", "A", "A+") -> B
A3: Sarah | B3: 85 | C3: =CHOOSE(MATCH(B3, {0,50,60,70,80,90}, 1), "F", "D", "C", "B", "A", "A+") -> A
A4: John | B4: 62 | C4: =CHOOSE(MATCH(B4, {0,50,60,70,80,90}, 1), "F", "D", "C", "B", "A", "A+") -> C
A5: Mia | B5: 45 | C5: =CHOOSE(MATCH(B5, {0,50,60,70,80,90}, 1), "F", "D", "C", "B", "A", "A+") -> F
A6: Liam | B6: 91 | C6: =CHOOSE(MATCH(B6, {0,50,60,70,80,90}, 1), "F", "D", "C", "B", "A", "A+") -> A+
A7: Emma | B7: 68 | C7: =CHOOSE(MATCH(B7, {0,50,60,70,80,90}, 1), "F", "D", "C", "B", "A", "A+") -> C
A8: Sam | B8: 95 | C8: =CHOOSE(MATCH(B8, {0,50,60,70,80,90}, 1), "F", "D", "C", "B", "A", "A+") -> A+
A9: Eva | B9: 54 | C9: =CHOOSE(MATCH(B9, {0,50,60,70,80,90}, 1), "F", "D", "C", "B", "A", "A+") -> D
A10: Tony | B10: 45 | C10: =CHOOSE(MATCH(B10, {0,50,60,70,80,90}, 1), "F", "D", "C", "B", "A", "A+") -> F
