Workbook

Sheet 1. Counting with Blank Cells
A1: ='1. Counting with Blank Cells'!A1 -> Region | B1: ='1. Counting with Blank Cells'!B1 -> Category | C1: ='1. Counting with Blank Cells'!C1 -> Product | D1: ='1. Counting with Blank Cells'!D1 -> Status | E1: ='1. Counting with Blank Cells'!E1 -> Sales ( $)
A2: North | B2: Electronics | C2: Laptop | D2: Delivered
A3: South | B3: Furniture | C3: Chair | D3: Pending | E3: 150
A4: East | B4: Clothing | C4: Shirt | D4: Delivered
A5: West | B5: Stationery | C5: Pen | D5: Returned | E5: 90
A6: North | B6: Electronics | C6: Phone | D6: Pending | E6: 0
A7: South | B7: Furniture | C7: Table | D7: Delivered | E7: 120
A8: East | B8: Clothing | C8: Jacket | D8: Pending | E8: 0
A9: West | B9: Stationery | C9: Notebook | D9: Delivered | E9: 200
A10: North | B10: Electronics | C10: Headphones | D10: Cancelled | E10: 0
A11: South | B11: Furniture | C11: Sofa | D11: Delivered | E11: 75
D13: Count of Cells | E13: =COUNTIF(E2:E11,"<>0") -> 7

Sheet 2. Counting Without Blank Cells
A1: ='1. Counting with Blank Cells'!A1 -> Region | B1: ='1. Counting with Blank Cells'!B1 -> Category | C1: ='1. Counting with Blank Cells'!C1 -> Product | D1: ='1. Counting with Blank Cells'!D1 -> Status | E1: ='1. Counting with Blank Cells'!E1 -> Sales ( $)
A2: North | B2: Electronics | C2: Laptop | D2: Delivered
A3: South | B3: Furniture | C3: Chair | D3: Pending | E3: 150
A4: East | B4: Clothing | C4: Shirt | D4: Delivered | E4: 0
A5: West | B5: Stationery | C5: Pen | D5: Returned | E5: 90
A6: North | B6: Electronics | C6: Phone | D6: Pending | E6: 0
A7: South | B7: Furniture | C7: Table | D7: Delivered | E7: 120
A8: East | B8: Clothing | C8: Jacket | D8: Pending | E8: 0
A9: West | B9: Stationery | C9: Notebook | D9: Delivered | E9: 200
A10: North | B10: Electronics | C10: Headphones | D10: Cancelled | E10: 0
A11: South | B11: Furniture | C11: Sofa | D11: Delivered | E11: 75
D13: Count of Cells | E13: =COUNTIFS(E2:E11,"<>0",E2:E11,"<>") -> 5

Sheet 3. Numeric Non-Zero Counts
A1: ='1. Counting with Blank Cells'!A1 -> Region | B1: ='1. Counting with Blank Cells'!B1 -> Category | C1: ='1. Counting with Blank Cells'!C1 -> Product | D1: ='1. Counting with Blank Cells'!D1 -> Status | E1: ='1. Counting with Blank Cells'!E1 -> Sales ( $)
A2: North | B2: Electronics | C2: Laptop | D2: Delivered
A3: South | B3: Furniture | C3: Chair | D3: Pending | E3: 150
A4: East | B4: Clothing | C4: Shirt | D4: Delivered | E4: 0
A5: West | B5: Stationery | C5: Pen | D5: Returned | E5: 90
A6: North | B6: Electronics | C6: Phone | D6: Pending | E6: 0
A7: South | B7: Furniture | C7: Table | D7: Delivered | E7: 120
A8: East | B8: Clothing | C8: Jacket | D8: Pending | E8: 0
A9: West | B9: Stationery | C9: Notebook | D9: Delivered | E9: 200
A10: North | B10: Electronics | C10: Headphones | D10: Cancelled | E10: 0
A11: South | B11: Furniture | C11: Sofa | D11: Delivered | E11: 75
D13: Count of Cells | E13: =COUNT(E2:E11) - COUNTIF(E2:E11,0) -> 5

Sheet 4. Using the SUM Function 
A1: ='1. Counting with Blank Cells'!A1 -> Region | B1: ='1. Counting with Blank Cells'!B1 -> Category | C1: ='1. Counting with Blank Cells'!C1 -> Product | D1: ='1. Counting with Blank Cells'!D1 -> Status | E1: ='1. Counting with Blank Cells'!E1 -> Sales ( $)
A2: North | B2: Electronics | C2: Laptop | D2: Delivered
A3: South | B3: Furniture | C3: Chair | D3: Pending | E3: 150
A4: East | B4: Clothing | C4: Shirt | D4: Delivered | E4: 0
A5: West | B5: Stationery | C5: Pen | D5: Returned | E5: 90
A6: North | B6: Electronics | C6: Phone | D6: Pending | E6: 0
A7: South | B7: Furniture | C7: Table | D7: Delivered | E7: 120
A8: East | B8: Clothing | C8: Jacket | D8: Pending | E8: 0
A9: West | B9: Stationery | C9: Notebook | D9: Delivered | E9: 200
A10: North | B10: Electronics | C10: Headphones | D10: Cancelled | E10: 0
A11: South | B11: Furniture | C11: Sofa | D11: Delivered | E11: 75
D13: Count of Cells | E13: {=SUM(--(E2:E11<>0))} -> 5

Sheet 5. Using SUMPRODUCT Function
A1: ='1. Counting with Blank Cells'!A1 -> Region | B1: ='1. Counting with Blank Cells'!B1 -> Category | C1: ='1. Counting with Blank Cells'!C1 -> Product | D1: ='1. Counting with Blank Cells'!D1 -> Status | E1: ='1. Counting with Blank Cells'!E1 -> Sales ( $)
A2: North | B2: Electronics | C2: Laptop | D2: Delivered
A3: South | B3: Furniture | C3: Chair | D3: Pending | E3: 150
A4: East | B4: Clothing | C4: Shirt | D4: Delivered | E4: 0
A5: West | B5: Stationery | C5: Pen | D5: Returned | E5: 90
A6: North | B6: Electronics | C6: Phone | D6: Pending | E6: 0
A7: South | B7: Furniture | C7: Table | D7: Delivered | E7: 120
A8: East | B8: Clothing | C8: Jacket | D8: Pending | E8: 0
A9: West | B9: Stationery | C9: Notebook | D9: Delivered | E9: 200
A10: North | B10: Electronics | C10: Headphones | D10: Cancelled | E10: 0
A11: South | B11: Furniture | C11: Sofa | D11: Delivered | E11: 75
D13: Count of Cells | E13: {=SUMPRODUCT(--(E2:E11<>0))} -> 5

Sheet 6. Filtering Numeric Data
A1: ='1. Counting with Blank Cells'!A1 -> Region | B1: ='1. Counting with Blank Cells'!B1 -> Category | C1: ='1. Counting with Blank Cells'!C1 -> Product | D1: ='1. Counting with Blank Cells'!D1 -> Status | E1: ='1. Counting with Blank Cells'!E1 -> Sales ( $)
A2: North | B2: Electronics | C2: Laptop | D2: Delivered
A3: South | B3: Furniture | C3: Chair | D3: Pending | E3: 150
A4: East | B4: Clothing | C4: Shirt | D4: Delivered | E4: 0
A5: West | B5: Stationery | C5: Pen | D5: Returned | E5: 90
A6: North | B6: Electronics | C6: Phone | D6: Pending | E6: 0
A7: South | B7: Furniture | C7: Table | D7: Delivered | E7: 120
A8: East | B8: Clothing | C8: Jacket | D8: Pending | E8: 0
A9: West | B9: Stationery | C9: Notebook | D9: Delivered | E9: 200
A10: North | B10: Electronics | C10: Headphones | D10: Cancelled | E10: 0
A11: South | B11: Furniture | C11: Sofa | D11: Delivered | E11: 75
D13: Count of Cells | E13: {=SUMPRODUCT(--ISNUMBER(E2:E11), --(E2:E11<>0))} -> 5

Sheet 7. FILTER & COUNTA Function
A1: ='1. Counting with Blank Cells'!A1 -> Region | B1: ='1. Counting with Blank Cells'!B1 -> Category | C1: ='1. Counting with Blank Cells'!C1 -> Product | D1: ='1. Counting with Blank Cells'!D1 -> Status | E1: ='1. Counting with Blank Cells'!E1 -> Sales ( $)
A2: North | B2: Electronics | C2: Laptop | D2: Delivered
A3: South | B3: Furniture | C3: Chair | D3: Pending | E3: 150
A4: East | B4: Clothing | C4: Shirt | D4: Delivered | E4: 0
A5: West | B5: Stationery | C5: Pen | D5: Returned | E5: 90
A6: North | B6: Electronics | C6: Phone | D6: Pending | E6: 0
A7: South | B7: Furniture | C7: Table | D7: Delivered | E7: 120
A8: East | B8: Clothing | C8: Jacket | D8: Pending | E8: 0
A9: West | B9: Stationery | C9: Notebook | D9: Delivered | E9: 200
A10: North | B10: Electronics | C10: Headphones | D10: Cancelled | E10: 0
A11: South | B11: Furniture | C11: Sofa | D11: Delivered | E11: 75
D13: Count of Cells | E13: {=COUNTA(_xlfn._xlws.FILTER(E2:E11,(E2:E11<>0)*(E2:E11<>"")))} -> 5
