Workbook

Sheet 1. Return Match or No Match
A1: A (List 1) | B1: B (List 2) | C1: Return
A2: Apple | B2: Banana | C2: =IF(ISNA(VLOOKUP(A2, B:B, 1, FALSE)), "No Match", "Match") -> No Match
A3: Banana | B3: Berry | C3: =IF(ISNA(VLOOKUP(A3, B:B, 1, FALSE)), "No Match", "Match") -> Match
A4: Cherry | B4: Guava | C4: =IF(ISNA(VLOOKUP(A4, B:B, 1, FALSE)), "No Match", "Match") -> Match
A5: Mango | B5: Orange | C5: =IF(ISNA(VLOOKUP(A5, B:B, 1, FALSE)), "No Match", "Match") -> No Match
A6: Orange | B6: Cherry | C6: =IF(ISNA(VLOOKUP(A6, B:B, 1, FALSE)), "No Match", "Match") -> Match

Sheet 2. Actual Matching Value
A1: A (List 1) | B1: B (List 2) | C1: Return
A2: Apple | B2: Banana | C2: =IFERROR(VLOOKUP(A2, B:B, 1, FALSE), "")
A3: Banana | B3: Berry | C3: =IFERROR(VLOOKUP(A3, B:B, 1, FALSE), "") -> Banana
A4: Cherry | B4: Guava | C4: =IFERROR(VLOOKUP(A4, B:B, 1, FALSE), "") -> Cherry
A5: Mango | B5: Orange | C5: =IFERROR(VLOOKUP(A5, B:B, 1, FALSE), "")
A6: Orange | B6: Cherry | C6: =IFERROR(VLOOKUP(A6, B:B, 1, FALSE), "") -> Orange

Sheet 3. Find Missing Values
A1: A (List 1) | B1: B (List 2) | C1: Return
A2: Apple | B2: Banana | C2: =IF(ISNA(VLOOKUP(A2, B:B, 1, FALSE)), A2, "") -> Apple
A3: Banana | B3: Berry | C3: =IF(ISNA(VLOOKUP(A3, B:B, 1, FALSE)), A3, "")
A4: Cherry | B4: Guava | C4: =IF(ISNA(VLOOKUP(A4, B:B, 1, FALSE)), A4, "")
A5: Mango | B5: Orange | C5: =IF(ISNA(VLOOKUP(A5, B:B, 1, FALSE)), A5, "") -> Mango
A6: Orange | B6: Cherry | C6: =IF(ISNA(VLOOKUP(A6, B:B, 1, FALSE)), A6, "")

Sheet 4. Compare in Reverse
A1: A (List 1) | B1: B (List 2) | C1: Return
A2: Apple | B2: Banana | C2: =IF(ISNA(VLOOKUP(B2, A:A, 1, FALSE)), "No Match", "Match") -> Match
A3: Banana | B3: Berry | C3: =IF(ISNA(VLOOKUP(B3, A:A, 1, FALSE)), "No Match", "Match") -> No Match
A4: Cherry | B4: Guava | C4: =IF(ISNA(VLOOKUP(B4, A:A, 1, FALSE)), "No Match", "Match") -> No Match
A5: Mango | B5: Orange | C5: =IF(ISNA(VLOOKUP(B5, A:A, 1, FALSE)), "No Match", "Match") -> Match
A6: Orange | B6: Cherry | C6: =IF(ISNA(VLOOKUP(B6, A:A, 1, FALSE)), "No Match", "Match") -> Match

Sheet 5.FruitsList1
A1: A (List 1) | B1: Common Fruits
A2: Apple | B2: =IFERROR(VLOOKUP(A2, FruitsList2!A:A, 1, FALSE), "")
A3: Banana | B3: =IFERROR(VLOOKUP(A3, FruitsList2!A:A, 1, FALSE), "") -> Banana
A4: Cherry | B4: =IFERROR(VLOOKUP(A4, FruitsList2!A:A, 1, FALSE), "") -> Cherry
A5: Mango | B5: =IFERROR(VLOOKUP(A5, FruitsList2!A:A, 1, FALSE), "")
A6: Orange | B6: =IFERROR(VLOOKUP(A6, FruitsList2!A:A, 1, FALSE), "") -> Orange

Sheet FruitsList2
A1: B (List 2)
A2: Banana
A3: Berry
A4: Guava
A5: Orange
A6: Cherry

Sheet 6. Return Value Third Column
A1: Product Name | B1: Price(per Kg) | D1: Search List | E1: Returned price
A2: Apple | B2: 5.68 | D2: Banana | E2: =IFERROR(VLOOKUP(D2,A:B,2,FALSE),"Not Found") -> 1.68
A3: Banana | B3: 1.68 | E3: =IFERROR(VLOOKUP(D3,A:B,2,FALSE),"Not Found") -> Not Found
A4: Cherry | B4: 5.31 | D4: Guava | E4: =IFERROR(VLOOKUP(D4,A:B,2,FALSE),"Not Found") -> Not Found
A5: Mango | B5: 3.83 | D5: Orange | E5: =IFERROR(VLOOKUP(D5,A:B,2,FALSE),"Not Found") -> 0.64
A6: Orange | B6: 0.64 | D6: Kiwi | E6: =IFERROR(VLOOKUP(D6,A:B,2,FALSE),"Not Found") -> Not Found
